BEGIN:VCALENDAR
VERSION:2.0
PRODID:-//Maqaame Ibrahim Islamic Center - ECPv6.15.20//NONSGML v1.0//EN
CALSCALE:GREGORIAN
METHOD:PUBLISH
X-WR-CALNAME:Maqaame Ibrahim Islamic Center
X-ORIGINAL-URL:https://miicbethesda.org
X-WR-CALDESC:Events for Maqaame Ibrahim Islamic Center
REFRESH-INTERVAL;VALUE=DURATION:PT1H
X-Robots-Tag:noindex
X-PUBLISHED-TTL:PT1H
BEGIN:VTIMEZONE
TZID:America/New_York
BEGIN:DAYLIGHT
TZOFFSETFROM:-0500
TZOFFSETTO:-0400
TZNAME:EDT
DTSTART:20240310T070000
END:DAYLIGHT
BEGIN:STANDARD
TZOFFSETFROM:-0400
TZOFFSETTO:-0500
TZNAME:EST
DTSTART:20241103T060000
END:STANDARD
BEGIN:DAYLIGHT
TZOFFSETFROM:-0500
TZOFFSETTO:-0400
TZNAME:EDT
DTSTART:20250309T070000
END:DAYLIGHT
BEGIN:STANDARD
TZOFFSETFROM:-0400
TZOFFSETTO:-0500
TZNAME:EST
DTSTART:20251102T060000
END:STANDARD
BEGIN:DAYLIGHT
TZOFFSETFROM:-0500
TZOFFSETTO:-0400
TZNAME:EDT
DTSTART:20260308T070000
END:DAYLIGHT
BEGIN:STANDARD
TZOFFSETFROM:-0400
TZOFFSETTO:-0500
TZNAME:EST
DTSTART:20261101T060000
END:STANDARD
BEGIN:DAYLIGHT
TZOFFSETFROM:-0500
TZOFFSETTO:-0400
TZNAME:EDT
DTSTART:20270314T070000
END:DAYLIGHT
BEGIN:STANDARD
TZOFFSETFROM:-0400
TZOFFSETTO:-0500
TZNAME:EST
DTSTART:20271107T060000
END:STANDARD
END:VTIMEZONE
BEGIN:VEVENT
DTSTART;TZID=America/New_York:20260310T210000
DTEND;TZID=America/New_York:20260310T223000
DTSTAMP:20260419T110434
CREATED:20260219T161928Z
LAST-MODIFIED:20260312T164937Z
UID:10004062-1773176400-1773181800@miicbethesda.org
SUMMARY:Daily Taraweeh Prayers
DESCRIPTION:Offer Taraweeh prayers everyday in Bethesda during Ramadan led by Imam Ali Sbai. From February 17 at 8 pm. More information here.
URL:https://miicbethesda.org/event/daily-taraweeh-prayers/2026-03-10/
LOCATION:Bradley Hills Presbyterian Church\, 6601 Bradley Boulevard\, Bethesda\, MD\, 20817\, United States
CATEGORIES:Prayers,Ramadan
ORGANIZER;CN="Maqaame Ibrahim Islamic Center":MAILTO:maqaameibrahim@gmail.com
END:VEVENT
BEGIN:VEVENT
DTSTART;TZID=America/New_York:20260309T210000
DTEND;TZID=America/New_York:20260309T223000
DTSTAMP:20260419T110434
CREATED:20260219T161928Z
LAST-MODIFIED:20260312T164937Z
UID:10004061-1773090000-1773095400@miicbethesda.org
SUMMARY:Daily Taraweeh Prayers
DESCRIPTION:Offer Taraweeh prayers everyday in Bethesda during Ramadan led by Imam Ali Sbai. From February 17 at 8 pm. More information here.
URL:https://miicbethesda.org/event/daily-taraweeh-prayers/2026-03-09/
LOCATION:Bradley Hills Presbyterian Church\, 6601 Bradley Boulevard\, Bethesda\, MD\, 20817\, United States
CATEGORIES:Prayers,Ramadan
ORGANIZER;CN="Maqaame Ibrahim Islamic Center":MAILTO:maqaameibrahim@gmail.com
END:VEVENT
BEGIN:VEVENT
DTSTART;TZID=America/New_York:20260308T210000
DTEND;TZID=America/New_York:20260308T223000
DTSTAMP:20260419T110434
CREATED:20260219T161928Z
LAST-MODIFIED:20260312T164937Z
UID:10004060-1773003600-1773009000@miicbethesda.org
SUMMARY:Daily Taraweeh Prayers
DESCRIPTION:Offer Taraweeh prayers everyday in Bethesda during Ramadan led by Imam Ali Sbai. From February 17 at 8 pm. More information here.
URL:https://miicbethesda.org/event/daily-taraweeh-prayers/2026-03-08/
LOCATION:Bradley Hills Presbyterian Church\, 6601 Bradley Boulevard\, Bethesda\, MD\, 20817\, United States
CATEGORIES:Prayers,Ramadan
ORGANIZER;CN="Maqaame Ibrahim Islamic Center":MAILTO:maqaameibrahim@gmail.com
END:VEVENT
BEGIN:VEVENT
DTSTART;TZID=America/New_York:20260307T210000
DTEND;TZID=America/New_York:20260307T223000
DTSTAMP:20260419T110434
CREATED:20260219T161928Z
LAST-MODIFIED:20260312T164937Z
UID:10004059-1772917200-1772922600@miicbethesda.org
SUMMARY:Daily Taraweeh Prayers
DESCRIPTION:Offer Taraweeh prayers everyday in Bethesda during Ramadan led by Imam Ali Sbai. From February 17 at 8 pm. More information here.
URL:https://miicbethesda.org/event/daily-taraweeh-prayers/2026-03-07/
LOCATION:Bradley Hills Presbyterian Church\, 6601 Bradley Boulevard\, Bethesda\, MD\, 20817\, United States
CATEGORIES:Prayers,Ramadan
ORGANIZER;CN="Maqaame Ibrahim Islamic Center":MAILTO:maqaameibrahim@gmail.com
END:VEVENT
BEGIN:VEVENT
DTSTART;TZID=America/New_York:20260307T173000
DTEND;TZID=America/New_York:20260307T193000
DTSTAMP:20260419T110434
CREATED:20260219T151403Z
LAST-MODIFIED:20260219T151403Z
UID:10003186-1772904600-1772911800@miicbethesda.org
SUMMARY:Ramadan Interfaith Iftar
DESCRIPTION:Attend our Interfaith Iftar for an evening of community\, reflection and fellowship as we come together to break our fast. More details here. RSVP at this link
URL:https://miicbethesda.org/event/ramadan-interfaith-iftar/
LOCATION:Bradley Hills Presbyterian Church\, 6601 Bradley Boulevard\, Bethesda\, MD\, 20817\, United States
ORGANIZER;CN="Maqaame Ibrahim Islamic Center":MAILTO:maqaameibrahim@gmail.com
END:VEVENT
BEGIN:VEVENT
DTSTART;TZID=America/New_York:20260306T210000
DTEND;TZID=America/New_York:20260306T223000
DTSTAMP:20260419T110434
CREATED:20260219T161928Z
LAST-MODIFIED:20260312T164937Z
UID:10004058-1772830800-1772836200@miicbethesda.org
SUMMARY:Daily Taraweeh Prayers
DESCRIPTION:Offer Taraweeh prayers everyday in Bethesda during Ramadan led by Imam Ali Sbai. From February 17 at 8 pm. More information here.
URL:https://miicbethesda.org/event/daily-taraweeh-prayers/2026-03-06/
LOCATION:Bradley Hills Presbyterian Church\, 6601 Bradley Boulevard\, Bethesda\, MD\, 20817\, United States
CATEGORIES:Prayers,Ramadan
ORGANIZER;CN="Maqaame Ibrahim Islamic Center":MAILTO:maqaameibrahim@gmail.com
END:VEVENT
BEGIN:VEVENT
DTSTART;TZID=America/New_York:20260305T210000
DTEND;TZID=America/New_York:20260305T223000
DTSTAMP:20260419T110434
CREATED:20260219T161928Z
LAST-MODIFIED:20260312T164937Z
UID:10004057-1772744400-1772749800@miicbethesda.org
SUMMARY:Daily Taraweeh Prayers
DESCRIPTION:Offer Taraweeh prayers everyday in Bethesda during Ramadan led by Imam Ali Sbai. From February 17 at 8 pm. More information here.
URL:https://miicbethesda.org/event/daily-taraweeh-prayers/2026-03-05/
LOCATION:Bradley Hills Presbyterian Church\, 6601 Bradley Boulevard\, Bethesda\, MD\, 20817\, United States
CATEGORIES:Prayers,Ramadan
ORGANIZER;CN="Maqaame Ibrahim Islamic Center":MAILTO:maqaameibrahim@gmail.com
END:VEVENT
BEGIN:VEVENT
DTSTART;TZID=America/New_York:20260304T210000
DTEND;TZID=America/New_York:20260304T223000
DTSTAMP:20260419T110434
CREATED:20260219T161928Z
LAST-MODIFIED:20260312T164937Z
UID:10004056-1772658000-1772663400@miicbethesda.org
SUMMARY:Daily Taraweeh Prayers
DESCRIPTION:Offer Taraweeh prayers everyday in Bethesda during Ramadan led by Imam Ali Sbai. From February 17 at 8 pm. More information here.
URL:https://miicbethesda.org/event/daily-taraweeh-prayers/2026-03-04/
LOCATION:Bradley Hills Presbyterian Church\, 6601 Bradley Boulevard\, Bethesda\, MD\, 20817\, United States
CATEGORIES:Prayers,Ramadan
ORGANIZER;CN="Maqaame Ibrahim Islamic Center":MAILTO:maqaameibrahim@gmail.com
END:VEVENT
BEGIN:VEVENT
DTSTART;TZID=America/New_York:20260303T210000
DTEND;TZID=America/New_York:20260303T223000
DTSTAMP:20260419T110434
CREATED:20260219T161928Z
LAST-MODIFIED:20260312T164937Z
UID:10004055-1772571600-1772577000@miicbethesda.org
SUMMARY:Daily Taraweeh Prayers
DESCRIPTION:Offer Taraweeh prayers everyday in Bethesda during Ramadan led by Imam Ali Sbai. From February 17 at 8 pm. More information here.
URL:https://miicbethesda.org/event/daily-taraweeh-prayers/2026-03-03/
LOCATION:Bradley Hills Presbyterian Church\, 6601 Bradley Boulevard\, Bethesda\, MD\, 20817\, United States
CATEGORIES:Prayers,Ramadan
ORGANIZER;CN="Maqaame Ibrahim Islamic Center":MAILTO:maqaameibrahim@gmail.com
END:VEVENT
BEGIN:VEVENT
DTSTART;TZID=America/New_York:20260302T210000
DTEND;TZID=America/New_York:20260302T223000
DTSTAMP:20260419T110434
CREATED:20260219T161928Z
LAST-MODIFIED:20260312T164937Z
UID:10004054-1772485200-1772490600@miicbethesda.org
SUMMARY:Daily Taraweeh Prayers
DESCRIPTION:Offer Taraweeh prayers everyday in Bethesda during Ramadan led by Imam Ali Sbai. From February 17 at 8 pm. More information here.
URL:https://miicbethesda.org/event/daily-taraweeh-prayers/2026-03-02/
LOCATION:Bradley Hills Presbyterian Church\, 6601 Bradley Boulevard\, Bethesda\, MD\, 20817\, United States
CATEGORIES:Prayers,Ramadan
ORGANIZER;CN="Maqaame Ibrahim Islamic Center":MAILTO:maqaameibrahim@gmail.com
END:VEVENT
BEGIN:VEVENT
DTSTART;TZID=America/New_York:20260301T210000
DTEND;TZID=America/New_York:20260301T223000
DTSTAMP:20260419T110434
CREATED:20260219T161928Z
LAST-MODIFIED:20260312T164937Z
UID:10004053-1772398800-1772404200@miicbethesda.org
SUMMARY:Daily Taraweeh Prayers
DESCRIPTION:Offer Taraweeh prayers everyday in Bethesda during Ramadan led by Imam Ali Sbai. From February 17 at 8 pm. More information here.
URL:https://miicbethesda.org/event/daily-taraweeh-prayers/2026-03-01/
LOCATION:Bradley Hills Presbyterian Church\, 6601 Bradley Boulevard\, Bethesda\, MD\, 20817\, United States
CATEGORIES:Prayers,Ramadan
ORGANIZER;CN="Maqaame Ibrahim Islamic Center":MAILTO:maqaameibrahim@gmail.com
END:VEVENT
BEGIN:VEVENT
DTSTART;TZID=America/New_York:20260228T210000
DTEND;TZID=America/New_York:20260228T223000
DTSTAMP:20260419T110434
CREATED:20260219T161928Z
LAST-MODIFIED:20260312T164937Z
UID:10004052-1772312400-1772317800@miicbethesda.org
SUMMARY:Daily Taraweeh Prayers
DESCRIPTION:Offer Taraweeh prayers everyday in Bethesda during Ramadan led by Imam Ali Sbai. From February 17 at 8 pm. More information here.
URL:https://miicbethesda.org/event/daily-taraweeh-prayers/2026-02-28/
LOCATION:Bradley Hills Presbyterian Church\, 6601 Bradley Boulevard\, Bethesda\, MD\, 20817\, United States
CATEGORIES:Prayers,Ramadan
ORGANIZER;CN="Maqaame Ibrahim Islamic Center":MAILTO:maqaameibrahim@gmail.com
END:VEVENT
BEGIN:VEVENT
DTSTART;TZID=America/New_York:20260227T210000
DTEND;TZID=America/New_York:20260227T223000
DTSTAMP:20260419T110434
CREATED:20260219T161928Z
LAST-MODIFIED:20260312T164937Z
UID:10004051-1772226000-1772231400@miicbethesda.org
SUMMARY:Daily Taraweeh Prayers
DESCRIPTION:Offer Taraweeh prayers everyday in Bethesda during Ramadan led by Imam Ali Sbai. From February 17 at 8 pm. More information here.
URL:https://miicbethesda.org/event/daily-taraweeh-prayers/2026-02-27/
LOCATION:Bradley Hills Presbyterian Church\, 6601 Bradley Boulevard\, Bethesda\, MD\, 20817\, United States
CATEGORIES:Prayers,Ramadan
ORGANIZER;CN="Maqaame Ibrahim Islamic Center":MAILTO:maqaameibrahim@gmail.com
END:VEVENT
BEGIN:VEVENT
DTSTART;TZID=America/New_York:20260226T210000
DTEND;TZID=America/New_York:20260226T223000
DTSTAMP:20260419T110434
CREATED:20260219T161928Z
LAST-MODIFIED:20260312T164937Z
UID:10004050-1772139600-1772145000@miicbethesda.org
SUMMARY:Daily Taraweeh Prayers
DESCRIPTION:Offer Taraweeh prayers everyday in Bethesda during Ramadan led by Imam Ali Sbai. From February 17 at 8 pm. More information here.
URL:https://miicbethesda.org/event/daily-taraweeh-prayers/2026-02-26/
LOCATION:Bradley Hills Presbyterian Church\, 6601 Bradley Boulevard\, Bethesda\, MD\, 20817\, United States
CATEGORIES:Prayers,Ramadan
ORGANIZER;CN="Maqaame Ibrahim Islamic Center":MAILTO:maqaameibrahim@gmail.com
END:VEVENT
BEGIN:VEVENT
DTSTART;TZID=America/New_York:20260225T210000
DTEND;TZID=America/New_York:20260225T223000
DTSTAMP:20260419T110434
CREATED:20260219T161928Z
LAST-MODIFIED:20260312T164937Z
UID:10004049-1772053200-1772058600@miicbethesda.org
SUMMARY:Daily Taraweeh Prayers
DESCRIPTION:Offer Taraweeh prayers everyday in Bethesda during Ramadan led by Imam Ali Sbai. From February 17 at 8 pm. More information here.
URL:https://miicbethesda.org/event/daily-taraweeh-prayers/2026-02-25/
LOCATION:Bradley Hills Presbyterian Church\, 6601 Bradley Boulevard\, Bethesda\, MD\, 20817\, United States
CATEGORIES:Prayers,Ramadan
ORGANIZER;CN="Maqaame Ibrahim Islamic Center":MAILTO:maqaameibrahim@gmail.com
END:VEVENT
BEGIN:VEVENT
DTSTART;TZID=America/New_York:20260224T210000
DTEND;TZID=America/New_York:20260224T223000
DTSTAMP:20260419T110434
CREATED:20260219T161928Z
LAST-MODIFIED:20260312T164937Z
UID:10004048-1771966800-1771972200@miicbethesda.org
SUMMARY:Daily Taraweeh Prayers
DESCRIPTION:Offer Taraweeh prayers everyday in Bethesda during Ramadan led by Imam Ali Sbai. From February 17 at 8 pm. More information here.
URL:https://miicbethesda.org/event/daily-taraweeh-prayers/2026-02-24/
LOCATION:Bradley Hills Presbyterian Church\, 6601 Bradley Boulevard\, Bethesda\, MD\, 20817\, United States
CATEGORIES:Prayers,Ramadan
ORGANIZER;CN="Maqaame Ibrahim Islamic Center":MAILTO:maqaameibrahim@gmail.com
END:VEVENT
BEGIN:VEVENT
DTSTART;TZID=America/New_York:20260223T210000
DTEND;TZID=America/New_York:20260223T223000
DTSTAMP:20260419T110434
CREATED:20260219T161928Z
LAST-MODIFIED:20260312T164937Z
UID:10004047-1771880400-1771885800@miicbethesda.org
SUMMARY:Daily Taraweeh Prayers
DESCRIPTION:Offer Taraweeh prayers everyday in Bethesda during Ramadan led by Imam Ali Sbai. From February 17 at 8 pm. More information here.
URL:https://miicbethesda.org/event/daily-taraweeh-prayers/2026-02-23/
LOCATION:Bradley Hills Presbyterian Church\, 6601 Bradley Boulevard\, Bethesda\, MD\, 20817\, United States
CATEGORIES:Prayers,Ramadan
ORGANIZER;CN="Maqaame Ibrahim Islamic Center":MAILTO:maqaameibrahim@gmail.com
END:VEVENT
BEGIN:VEVENT
DTSTART;TZID=America/New_York:20260222T210000
DTEND;TZID=America/New_York:20260222T223000
DTSTAMP:20260419T110434
CREATED:20260219T161928Z
LAST-MODIFIED:20260312T164937Z
UID:10004046-1771794000-1771799400@miicbethesda.org
SUMMARY:Daily Taraweeh Prayers
DESCRIPTION:Offer Taraweeh prayers everyday in Bethesda during Ramadan led by Imam Ali Sbai. From February 17 at 8 pm. More information here.
URL:https://miicbethesda.org/event/daily-taraweeh-prayers/2026-02-22/
LOCATION:Bradley Hills Presbyterian Church\, 6601 Bradley Boulevard\, Bethesda\, MD\, 20817\, United States
CATEGORIES:Prayers,Ramadan
ORGANIZER;CN="Maqaame Ibrahim Islamic Center":MAILTO:maqaameibrahim@gmail.com
END:VEVENT
BEGIN:VEVENT
DTSTART;TZID=America/New_York:20260221T210000
DTEND;TZID=America/New_York:20260221T223000
DTSTAMP:20260419T110434
CREATED:20260219T161928Z
LAST-MODIFIED:20260312T164937Z
UID:10004045-1771707600-1771713000@miicbethesda.org
SUMMARY:Daily Taraweeh Prayers
DESCRIPTION:Offer Taraweeh prayers everyday in Bethesda during Ramadan led by Imam Ali Sbai. From February 17 at 8 pm. More information here.
URL:https://miicbethesda.org/event/daily-taraweeh-prayers/2026-02-21/
LOCATION:Bradley Hills Presbyterian Church\, 6601 Bradley Boulevard\, Bethesda\, MD\, 20817\, United States
CATEGORIES:Prayers,Ramadan
ORGANIZER;CN="Maqaame Ibrahim Islamic Center":MAILTO:maqaameibrahim@gmail.com
END:VEVENT
BEGIN:VEVENT
DTSTART;TZID=America/New_York:20260220T210000
DTEND;TZID=America/New_York:20260220T223000
DTSTAMP:20260419T110434
CREATED:20260219T161928Z
LAST-MODIFIED:20260312T164937Z
UID:10004044-1771621200-1771626600@miicbethesda.org
SUMMARY:Daily Taraweeh Prayers
DESCRIPTION:Offer Taraweeh prayers everyday in Bethesda during Ramadan led by Imam Ali Sbai. From February 17 at 8 pm. More information here.
URL:https://miicbethesda.org/event/daily-taraweeh-prayers/2026-02-20/
LOCATION:Bradley Hills Presbyterian Church\, 6601 Bradley Boulevard\, Bethesda\, MD\, 20817\, United States
CATEGORIES:Prayers,Ramadan
ORGANIZER;CN="Maqaame Ibrahim Islamic Center":MAILTO:maqaameibrahim@gmail.com
END:VEVENT
BEGIN:VEVENT
DTSTART;TZID=America/New_York:20260219T210000
DTEND;TZID=America/New_York:20260219T223000
DTSTAMP:20260419T110434
CREATED:20260219T161928Z
LAST-MODIFIED:20260312T164937Z
UID:10004043-1771534800-1771540200@miicbethesda.org
SUMMARY:Daily Taraweeh Prayers
DESCRIPTION:Offer Taraweeh prayers everyday in Bethesda during Ramadan led by Imam Ali Sbai. From February 17 at 8 pm. More information here.
URL:https://miicbethesda.org/event/daily-taraweeh-prayers/2026-02-19/
LOCATION:Bradley Hills Presbyterian Church\, 6601 Bradley Boulevard\, Bethesda\, MD\, 20817\, United States
CATEGORIES:Prayers,Ramadan
ORGANIZER;CN="Maqaame Ibrahim Islamic Center":MAILTO:maqaameibrahim@gmail.com
END:VEVENT
BEGIN:VEVENT
DTSTART;TZID=America/New_York:20260218T210000
DTEND;TZID=America/New_York:20260218T223000
DTSTAMP:20260419T110434
CREATED:20260219T161928Z
LAST-MODIFIED:20260312T164937Z
UID:10004042-1771448400-1771453800@miicbethesda.org
SUMMARY:Daily Taraweeh Prayers
DESCRIPTION:Offer Taraweeh prayers everyday in Bethesda during Ramadan led by Imam Ali Sbai. From February 17 at 8 pm. More information here.
URL:https://miicbethesda.org/event/daily-taraweeh-prayers/2026-02-18/
LOCATION:Bradley Hills Presbyterian Church\, 6601 Bradley Boulevard\, Bethesda\, MD\, 20817\, United States
CATEGORIES:Prayers,Ramadan
ORGANIZER;CN="Maqaame Ibrahim Islamic Center":MAILTO:maqaameibrahim@gmail.com
END:VEVENT
BEGIN:VEVENT
DTSTART;TZID=America/New_York:20260217T210000
DTEND;TZID=America/New_York:20260217T223000
DTSTAMP:20260419T110434
CREATED:20260219T161928Z
LAST-MODIFIED:20260312T164937Z
UID:10004041-1771362000-1771367400@miicbethesda.org
SUMMARY:Daily Taraweeh Prayers
DESCRIPTION:Offer Taraweeh prayers everyday in Bethesda during Ramadan led by Imam Ali Sbai. From February 17 at 8 pm. More information here.
URL:https://miicbethesda.org/event/daily-taraweeh-prayers/2026-02-17/
LOCATION:Bradley Hills Presbyterian Church\, 6601 Bradley Boulevard\, Bethesda\, MD\, 20817\, United States
CATEGORIES:Prayers,Ramadan
ORGANIZER;CN="Maqaame Ibrahim Islamic Center":MAILTO:maqaameibrahim@gmail.com
END:VEVENT
BEGIN:VEVENT
DTSTART;TZID=America/New_York:20260216T190000
DTEND;TZID=America/New_York:20260216T203000
DTSTAMP:20260419T110434
CREATED:20260205T183040Z
LAST-MODIFIED:20260205T183040Z
UID:10003159-1771268400-1771273800@miicbethesda.org
SUMMARY:Voices Among Us - Supporting Refugee Families
DESCRIPTION:Join our community members as they share their experiences supporting local refugee families. Register here for in person or on zoom. More information here
URL:https://miicbethesda.org/event/voices-among-us-supporting-refugee-families/
LOCATION:Bradley Hills Presbyterian Church\, 6601 Bradley Boulevard\, Bethesda\, MD\, 20817\, United States
ORGANIZER;CN="InterCongregational Partnership":MAILTO:maqaameibrahim@gmail.com
END:VEVENT
BEGIN:VEVENT
DTSTART;TZID=America/New_York:20251116T103000
DTEND;TZID=America/New_York:20251116T133000
DTSTAMP:20260419T110434
CREATED:20251106T005543Z
LAST-MODIFIED:20251106T005543Z
UID:10002980-1763289000-1763299800@miicbethesda.org
SUMMARY:Annual Interfaith Worship and Brunch 2025
DESCRIPTION:Join us for our annual Interfaith Worship and Brunch at 10:30 am on November 16. Registration is required for the brunch. Register here by November 13.
URL:https://miicbethesda.org/event/annual-interfaith-worship-and-brunch-2025/
LOCATION:Bradley Hills Presbyterian Church\, 6601 Bradley Boulevard\, Bethesda\, MD\, 20817\, United States
ORGANIZER;CN="InterCongregational Partnership":MAILTO:maqaameibrahim@gmail.com
END:VEVENT
BEGIN:VEVENT
DTSTART;TZID=America/New_York:20251111T190000
DTEND;TZID=America/New_York:20251111T203000
DTSTAMP:20260419T110434
CREATED:20251023T173208Z
LAST-MODIFIED:20251023T173208Z
UID:10002693-1762887600-1762893000@miicbethesda.org
SUMMARY:Intro to Abrahamic Religions – Session 3 – Christianity
DESCRIPTION:The ICPC invites you to attend a series of  talks on the three Abrahamic faiths that share sacred space in 6601 Bradley Blvd in Bethesda. Please RSVP here
URL:https://miicbethesda.org/event/intro-to-abrahamic-religions-session-3-christianity/
LOCATION:Bradley Hills Presbyterian Church\, 6601 Bradley Boulevard\, Bethesda\, MD\, 20817\, United States
ORGANIZER;CN="InterCongregational Partnership":MAILTO:maqaameibrahim@gmail.com
END:VEVENT
BEGIN:VEVENT
DTSTART;TZID=America/New_York:20251108T113000
DTEND;TZID=America/New_York:20251108T140000
DTSTAMP:20260419T110434
CREATED:20251023T172341Z
LAST-MODIFIED:20251023T172341Z
UID:10002692-1762601400-1762610400@miicbethesda.org
SUMMARY:Interfaith Youth Thanksgiving Service Project
DESCRIPTION:Calling high school/middle school students for the Interfaith Youth Thanksgiving Service project on November 8. Register here. More information available here
URL:https://miicbethesda.org/event/interfaith-youth-thanksgiving-service-project/
LOCATION:Bradley Hills Presbyterian Church\, 6601 Bradley Boulevard\, Bethesda\, MD\, 20817\, United States
ORGANIZER;CN="InterCongregational Partnership":MAILTO:maqaameibrahim@gmail.com
END:VEVENT
BEGIN:VEVENT
DTSTART;TZID=America/New_York:20251028T190000
DTEND;TZID=America/New_York:20251028T203000
DTSTAMP:20260419T110434
CREATED:20251001T182757Z
LAST-MODIFIED:20251001T182757Z
UID:10002646-1761678000-1761683400@miicbethesda.org
SUMMARY:Interfaith Book Discussion
DESCRIPTION:Join us for an Interfaith Book Discussion on October 28 at 7 pm. More information here. Register for the event here or email ICPC6601@gmail.com
URL:https://miicbethesda.org/event/interfaith-book-discussion/
LOCATION:Bradley Hills Presbyterian Church\, 6601 Bradley Boulevard\, Bethesda\, MD\, 20817\, United States
ORGANIZER;CN="InterCongregational Partnership":MAILTO:maqaameibrahim@gmail.com
END:VEVENT
BEGIN:VEVENT
DTSTART;TZID=America/New_York:20251022T190000
DTEND;TZID=America/New_York:20251022T203000
DTSTAMP:20260419T110434
CREATED:20251001T182308Z
LAST-MODIFIED:20251001T182308Z
UID:10002645-1761159600-1761165000@miicbethesda.org
SUMMARY:Introduction to Abrahamic Religions - Session 2 - Judaism
DESCRIPTION:The ICPC invites you to attend a series of  talks on the three Abrahamic faiths that share sacred space in 6601 Bradley Blvd in Bethesda. Please RSVP here
URL:https://miicbethesda.org/event/introduction-to-abrahamic-religions-session-2-judaism/
LOCATION:Bradley Hills Presbyterian Church\, 6601 Bradley Boulevard\, Bethesda\, MD\, 20817\, United States
ORGANIZER;CN="InterCongregational Partnership":MAILTO:maqaameibrahim@gmail.com
END:VEVENT
BEGIN:VEVENT
DTSTART;TZID=America/New_York:20250917T190000
DTEND;TZID=America/New_York:20250917T203000
DTSTAMP:20260419T110434
CREATED:20250901T162947Z
LAST-MODIFIED:20250901T163314Z
UID:10002576-1758135600-1758141000@miicbethesda.org
SUMMARY:Introduction to Abrahamic Religions - Session 1 - Islam
DESCRIPTION:The ICPC invites you to attend a series of  talks on the three Abrahamic faiths that share sacred space in 6601 Bradley Blvd in Bethesda. Please RSVP here
URL:https://miicbethesda.org/event/introduction-to-abrahamic-religions-session-1/
LOCATION:Bradley Hills Presbyterian Church\, 6601 Bradley Boulevard\, Bethesda\, MD\, 20817\, United States
ORGANIZER;CN="InterCongregational Partnership":MAILTO:maqaameibrahim@gmail.com
END:VEVENT
END:VCALENDAR