BEGIN:VCALENDAR
VERSION:2.0
PRODID:-//Maqaame Ibrahim Islamic Center - ECPv6.15.20//NONSGML v1.0//EN
CALSCALE:GREGORIAN
METHOD:PUBLISH
X-WR-CALNAME:Maqaame Ibrahim Islamic Center
X-ORIGINAL-URL:https://miicbethesda.org
X-WR-CALDESC:Events for Maqaame Ibrahim Islamic Center
REFRESH-INTERVAL;VALUE=DURATION:PT1H
X-Robots-Tag:noindex
X-PUBLISHED-TTL:PT1H
BEGIN:VTIMEZONE
TZID:America/New_York
BEGIN:DAYLIGHT
TZOFFSETFROM:-0500
TZOFFSETTO:-0400
TZNAME:EDT
DTSTART:20260308T070000
END:DAYLIGHT
BEGIN:STANDARD
TZOFFSETFROM:-0400
TZOFFSETTO:-0500
TZNAME:EST
DTSTART:20261101T060000
END:STANDARD
BEGIN:DAYLIGHT
TZOFFSETFROM:-0500
TZOFFSETTO:-0400
TZNAME:EDT
DTSTART:20270314T070000
END:DAYLIGHT
BEGIN:STANDARD
TZOFFSETFROM:-0400
TZOFFSETTO:-0500
TZNAME:EST
DTSTART:20271107T060000
END:STANDARD
BEGIN:DAYLIGHT
TZOFFSETFROM:-0500
TZOFFSETTO:-0400
TZNAME:EDT
DTSTART:20280312T070000
END:DAYLIGHT
BEGIN:STANDARD
TZOFFSETFROM:-0400
TZOFFSETTO:-0500
TZNAME:EST
DTSTART:20281105T060000
END:STANDARD
END:VTIMEZONE
BEGIN:VEVENT
DTSTART;TZID=America/New_York:20270701T193000
DTEND;TZID=America/New_York:20270701T210000
DTSTAMP:20260423T014402
CREATED:20260406T141914Z
LAST-MODIFIED:20260406T142014Z
UID:10004206-1814470200-1814475600@miicbethesda.org
SUMMARY:Weekly Seerah Event
DESCRIPTION:Join us every Thursday from 7:30 to 9:00 pm followed by Isha prayer.  We will watch and discuss Yasir Qadhi’s lecture on the Seerah of the Prophet (SAW). \n 
URL:https://miicbethesda.org/event/weekly-seerah-event-2-2/2027-07-01/
LOCATION:Maqaame Ibrahim Downtown Bethesda Location\, 7805 Old Georgetown Road\, Suite 212\, Bethesda\, MD\, 20814\, United States
CATEGORIES:Learning
ORGANIZER;CN="Maqaame Ibrahim Islamic Center":MAILTO:maqaameibrahim@gmail.com
END:VEVENT
BEGIN:VEVENT
DTSTART;TZID=America/New_York:20270702T133000
DTEND;TZID=America/New_York:20270702T143000
DTSTAMP:20260423T014402
CREATED:20241001T174707Z
LAST-MODIFIED:20260312T165155Z
UID:10000416-1814535000-1814538600@miicbethesda.org
SUMMARY:Jumu'ah Prayers
DESCRIPTION:Join us for Jumu’ah Prayers every Friday at 1:30 pm
URL:https://miicbethesda.org/event/jumuah-prayers-2/2027-07-02/
LOCATION:Jumu’ah Prayers\, 6601 Bradley Boulevard\, Bethesda\, MD\, 20817\, United States
ORGANIZER;CN="Maqaame Ibrahim Islamic Center":MAILTO:maqaameibrahim@gmail.com
END:VEVENT
BEGIN:VEVENT
DTSTART;TZID=America/New_York:20270708T193000
DTEND;TZID=America/New_York:20270708T210000
DTSTAMP:20260423T014402
CREATED:20260406T141914Z
LAST-MODIFIED:20260406T142014Z
UID:10004207-1815075000-1815080400@miicbethesda.org
SUMMARY:Weekly Seerah Event
DESCRIPTION:Join us every Thursday from 7:30 to 9:00 pm followed by Isha prayer.  We will watch and discuss Yasir Qadhi’s lecture on the Seerah of the Prophet (SAW). \n 
URL:https://miicbethesda.org/event/weekly-seerah-event-2-2/2027-07-08/
LOCATION:Maqaame Ibrahim Downtown Bethesda Location\, 7805 Old Georgetown Road\, Suite 212\, Bethesda\, MD\, 20814\, United States
CATEGORIES:Learning
ORGANIZER;CN="Maqaame Ibrahim Islamic Center":MAILTO:maqaameibrahim@gmail.com
END:VEVENT
BEGIN:VEVENT
DTSTART;TZID=America/New_York:20270709T133000
DTEND;TZID=America/New_York:20270709T143000
DTSTAMP:20260423T014402
CREATED:20241001T174707Z
LAST-MODIFIED:20260312T165155Z
UID:10000417-1815139800-1815143400@miicbethesda.org
SUMMARY:Jumu'ah Prayers
DESCRIPTION:Join us for Jumu’ah Prayers every Friday at 1:30 pm
URL:https://miicbethesda.org/event/jumuah-prayers-2/2027-07-09/
LOCATION:Jumu’ah Prayers\, 6601 Bradley Boulevard\, Bethesda\, MD\, 20817\, United States
ORGANIZER;CN="Maqaame Ibrahim Islamic Center":MAILTO:maqaameibrahim@gmail.com
END:VEVENT
BEGIN:VEVENT
DTSTART;TZID=America/New_York:20270715T193000
DTEND;TZID=America/New_York:20270715T210000
DTSTAMP:20260423T014402
CREATED:20260406T141914Z
LAST-MODIFIED:20260406T142014Z
UID:10004208-1815679800-1815685200@miicbethesda.org
SUMMARY:Weekly Seerah Event
DESCRIPTION:Join us every Thursday from 7:30 to 9:00 pm followed by Isha prayer.  We will watch and discuss Yasir Qadhi’s lecture on the Seerah of the Prophet (SAW). \n 
URL:https://miicbethesda.org/event/weekly-seerah-event-2-2/2027-07-15/
LOCATION:Maqaame Ibrahim Downtown Bethesda Location\, 7805 Old Georgetown Road\, Suite 212\, Bethesda\, MD\, 20814\, United States
CATEGORIES:Learning
ORGANIZER;CN="Maqaame Ibrahim Islamic Center":MAILTO:maqaameibrahim@gmail.com
END:VEVENT
BEGIN:VEVENT
DTSTART;TZID=America/New_York:20270716T133000
DTEND;TZID=America/New_York:20270716T143000
DTSTAMP:20260423T014402
CREATED:20241001T174707Z
LAST-MODIFIED:20260312T165155Z
UID:10000418-1815744600-1815748200@miicbethesda.org
SUMMARY:Jumu'ah Prayers
DESCRIPTION:Join us for Jumu’ah Prayers every Friday at 1:30 pm
URL:https://miicbethesda.org/event/jumuah-prayers-2/2027-07-16/
LOCATION:Jumu’ah Prayers\, 6601 Bradley Boulevard\, Bethesda\, MD\, 20817\, United States
ORGANIZER;CN="Maqaame Ibrahim Islamic Center":MAILTO:maqaameibrahim@gmail.com
END:VEVENT
BEGIN:VEVENT
DTSTART;TZID=America/New_York:20270722T193000
DTEND;TZID=America/New_York:20270722T210000
DTSTAMP:20260423T014402
CREATED:20260406T141914Z
LAST-MODIFIED:20260406T142014Z
UID:10004209-1816284600-1816290000@miicbethesda.org
SUMMARY:Weekly Seerah Event
DESCRIPTION:Join us every Thursday from 7:30 to 9:00 pm followed by Isha prayer.  We will watch and discuss Yasir Qadhi’s lecture on the Seerah of the Prophet (SAW). \n 
URL:https://miicbethesda.org/event/weekly-seerah-event-2-2/2027-07-22/
LOCATION:Maqaame Ibrahim Downtown Bethesda Location\, 7805 Old Georgetown Road\, Suite 212\, Bethesda\, MD\, 20814\, United States
CATEGORIES:Learning
ORGANIZER;CN="Maqaame Ibrahim Islamic Center":MAILTO:maqaameibrahim@gmail.com
END:VEVENT
BEGIN:VEVENT
DTSTART;TZID=America/New_York:20270723T133000
DTEND;TZID=America/New_York:20270723T143000
DTSTAMP:20260423T014402
CREATED:20241001T174707Z
LAST-MODIFIED:20260312T165155Z
UID:10000419-1816349400-1816353000@miicbethesda.org
SUMMARY:Jumu'ah Prayers
DESCRIPTION:Join us for Jumu’ah Prayers every Friday at 1:30 pm
URL:https://miicbethesda.org/event/jumuah-prayers-2/2027-07-23/
LOCATION:Jumu’ah Prayers\, 6601 Bradley Boulevard\, Bethesda\, MD\, 20817\, United States
ORGANIZER;CN="Maqaame Ibrahim Islamic Center":MAILTO:maqaameibrahim@gmail.com
END:VEVENT
BEGIN:VEVENT
DTSTART;TZID=America/New_York:20270729T193000
DTEND;TZID=America/New_York:20270729T210000
DTSTAMP:20260423T014402
CREATED:20260406T141914Z
LAST-MODIFIED:20260406T142014Z
UID:10004210-1816889400-1816894800@miicbethesda.org
SUMMARY:Weekly Seerah Event
DESCRIPTION:Join us every Thursday from 7:30 to 9:00 pm followed by Isha prayer.  We will watch and discuss Yasir Qadhi’s lecture on the Seerah of the Prophet (SAW). \n 
URL:https://miicbethesda.org/event/weekly-seerah-event-2-2/2027-07-29/
LOCATION:Maqaame Ibrahim Downtown Bethesda Location\, 7805 Old Georgetown Road\, Suite 212\, Bethesda\, MD\, 20814\, United States
CATEGORIES:Learning
ORGANIZER;CN="Maqaame Ibrahim Islamic Center":MAILTO:maqaameibrahim@gmail.com
END:VEVENT
BEGIN:VEVENT
DTSTART;TZID=America/New_York:20270730T133000
DTEND;TZID=America/New_York:20270730T143000
DTSTAMP:20260423T014402
CREATED:20241001T174707Z
LAST-MODIFIED:20260312T165155Z
UID:10000420-1816954200-1816957800@miicbethesda.org
SUMMARY:Jumu'ah Prayers
DESCRIPTION:Join us for Jumu’ah Prayers every Friday at 1:30 pm
URL:https://miicbethesda.org/event/jumuah-prayers-2/2027-07-30/
LOCATION:Jumu’ah Prayers\, 6601 Bradley Boulevard\, Bethesda\, MD\, 20817\, United States
ORGANIZER;CN="Maqaame Ibrahim Islamic Center":MAILTO:maqaameibrahim@gmail.com
END:VEVENT
END:VCALENDAR