BEGIN:VCALENDAR
VERSION:2.0
PRODID:-//Maqaame Ibrahim Islamic Center - ECPv6.15.20//NONSGML v1.0//EN
CALSCALE:GREGORIAN
METHOD:PUBLISH
X-WR-CALNAME:Maqaame Ibrahim Islamic Center
X-ORIGINAL-URL:https://miicbethesda.org
X-WR-CALDESC:Events for Maqaame Ibrahim Islamic Center
REFRESH-INTERVAL;VALUE=DURATION:PT1H
X-Robots-Tag:noindex
X-PUBLISHED-TTL:PT1H
BEGIN:VTIMEZONE
TZID:America/New_York
BEGIN:DAYLIGHT
TZOFFSETFROM:-0500
TZOFFSETTO:-0400
TZNAME:EDT
DTSTART:20250309T070000
END:DAYLIGHT
BEGIN:STANDARD
TZOFFSETFROM:-0400
TZOFFSETTO:-0500
TZNAME:EST
DTSTART:20251102T060000
END:STANDARD
BEGIN:DAYLIGHT
TZOFFSETFROM:-0500
TZOFFSETTO:-0400
TZNAME:EDT
DTSTART:20260308T070000
END:DAYLIGHT
BEGIN:STANDARD
TZOFFSETFROM:-0400
TZOFFSETTO:-0500
TZNAME:EST
DTSTART:20261101T060000
END:STANDARD
BEGIN:DAYLIGHT
TZOFFSETFROM:-0500
TZOFFSETTO:-0400
TZNAME:EDT
DTSTART:20270314T070000
END:DAYLIGHT
BEGIN:STANDARD
TZOFFSETFROM:-0400
TZOFFSETTO:-0500
TZNAME:EST
DTSTART:20271107T060000
END:STANDARD
END:VTIMEZONE
BEGIN:VEVENT
DTSTART;TZID=America/New_York:20260517T170000
DTEND;TZID=America/New_York:20260517T190000
DTSTAMP:20260423T044735
CREATED:20260422T153342Z
LAST-MODIFIED:20260422T153342Z
UID:10004467-1779037200-1779044400@miicbethesda.org
SUMMARY:Interfaith Spring Picnic
DESCRIPTION:You are invited to our interfaith Spring Picnic. Fun activities for all ages. Experience the unique spirit of our interfaith community. More information here
URL:https://miicbethesda.org/event/interfaith-spring-picnic/
LOCATION:Bradley Hills Presbyterian Church\, 6601 Bradley Boulevard\, Bethesda\, MD\, 20817\, United States
ORGANIZER;CN="InterCongregational Partnership":MAILTO:maqaameibrahim@gmail.com
END:VEVENT
END:VCALENDAR